BEGIN:VCALENDAR
VERSION:2.0
PRODID:-//wp-events-plugin.com//7.2.3.1//EN
TZID:Europe/Berlin
X-WR-TIMEZONE:Europe/BerlinBEGIN:VCALENDAR
VERSION:2.0
PRODID:-//wp-events-plugin.com//7.2.3.1//EN
TZID:Europe/Berlin
X-WR-TIMEZONE:Europe/Berlin
BEGIN:VEVENT
UID:15@bogensport-oberweier.de
DTSTART;TZID=Europe/Berlin:20260322T094500
DTEND;TZID=Europe/Berlin:20260322T113000
DTSTAMP:20260225T151737Z
URL:https://www.bogensport-oberweier.de/schnuppertraining/schnuppertrainin
 g-10/
SUMMARY:Schnuppertraining
DESCRIPTION:Bitte dem Wetter angepasste Kleidung und festes Schuhwerk mitbr
 ingen.
CATEGORIES:Trainer Erik
LOCATION:Vereinsgelände\, Oberweier\, Gaggenau\, Deutschland
X-APPLE-STRUCTURED-LOCATION;VALUE=URI;X-ADDRESS=Oberweier\, Gaggenau\, Deut
 schland;X-APPLE-RADIUS=100;X-TITLE=Vereinsgelände:geo:0,0
END:VEVENT
BEGIN:VTIMEZONE
TZID:Europe/Berlin
X-LIC-LOCATION:Europe/Berlin
BEGIN:STANDARD
DTSTART:20251026T020000
TZOFFSETFROM:+0200
TZOFFSETTO:+0100
TZNAME:CET
END:STANDARD
END:VTIMEZONE
END:VCALENDAR